BEGIN:VCALENDAR
VERSION:2.0
PRODID:-//CalRecycle Home Page - ECPv6.15.19//NONSGML v1.0//EN
CALSCALE:GREGORIAN
METHOD:PUBLISH
X-WR-CALNAME:CalRecycle Home Page
X-ORIGINAL-URL:https://calrecycle.ca.gov
X-WR-CALDESC:Events for CalRecycle Home Page
REFRESH-INTERVAL;VALUE=DURATION:PT1H
X-Robots-Tag:noindex
X-PUBLISHED-TTL:PT1H
BEGIN:VTIMEZONE
TZID:America/Los_Angeles
BEGIN:DAYLIGHT
TZOFFSETFROM:-0800
TZOFFSETTO:-0700
TZNAME:PDT
DTSTART:20250309T100000
END:DAYLIGHT
BEGIN:STANDARD
TZOFFSETFROM:-0700
TZOFFSETTO:-0800
TZNAME:PST
DTSTART:20251102T090000
END:STANDARD
BEGIN:DAYLIGHT
TZOFFSETFROM:-0800
TZOFFSETTO:-0700
TZNAME:PDT
DTSTART:20260308T100000
END:DAYLIGHT
BEGIN:STANDARD
TZOFFSETFROM:-0700
TZOFFSETTO:-0800
TZNAME:PST
DTSTART:20261101T090000
END:STANDARD
BEGIN:DAYLIGHT
TZOFFSETFROM:-0800
TZOFFSETTO:-0700
TZNAME:PDT
DTSTART:20270314T100000
END:DAYLIGHT
BEGIN:STANDARD
TZOFFSETFROM:-0700
TZOFFSETTO:-0800
TZNAME:PST
DTSTART:20271107T090000
END:STANDARD
END:VTIMEZONE
BEGIN:VEVENT
DTSTART;TZID=America/Los_Angeles:20260401T130000
DTEND;TZID=America/Los_Angeles:20260401T150000
DTSTAMP:20260424T050854
CREATED:20260326T192647Z
LAST-MODIFIED:20260326T192647Z
UID:101075-1775048400-1775055600@calrecycle.ca.gov
SUMMARY:SB 1383 Chat with CalRecycle - Measuring Effective Outreach
DESCRIPTION:You are invited to the April 2026 SB 1383 Chat with CalRecycle. This webinar will feature CalRecycle’s Recycling Reimagined campaign (recyclingreimaginedca.com)\, the City of Los Angeles’ organics outreach initiative\, and the City of Sunnyvale’s pilot outreach program for multifamily housing. Presentations will focus on outreach models\, performance findings\, and strategies to increase public participation.  \nCalRecycle is hosting the webinar series: “SB 1383 Chat with CalRecycle” to provide an opportunity to discuss guidance and tools available\, deliver funding updates\, and share how jurisdictions and other entities are implementing programs. CalRecycle staff will be available to answer related questions.  \nRegister in advance of this meeting on Zoom. \nAfter registering\, you will receive a confirmation email containing information about joining the meeting.
URL:https://calrecycle.ca.gov/event/sb-1383-chat-with-calrecycle/
LOCATION:Zoom Meeting
CATEGORIES:Webinars
ORGANIZER;CN="CalRecycle Chats":MAILTO:Chats@calrecycle.ca.gov
END:VEVENT
END:VCALENDAR