BEGIN:VCALENDAR
VERSION:2.0
PRODID:-//CalRecycle Home Page - ECPv6.15.19//NONSGML v1.0//EN
CALSCALE:GREGORIAN
METHOD:PUBLISH
X-ORIGINAL-URL:https://calrecycle.ca.gov
X-WR-CALDESC:Events for CalRecycle Home Page
REFRESH-INTERVAL;VALUE=DURATION:PT1H
X-Robots-Tag:noindex
X-PUBLISHED-TTL:PT1H
BEGIN:VTIMEZONE
TZID:America/Los_Angeles
BEGIN:DAYLIGHT
TZOFFSETFROM:-0800
TZOFFSETTO:-0700
TZNAME:PDT
DTSTART:20250309T100000
END:DAYLIGHT
BEGIN:STANDARD
TZOFFSETFROM:-0700
TZOFFSETTO:-0800
TZNAME:PST
DTSTART:20251102T090000
END:STANDARD
BEGIN:DAYLIGHT
TZOFFSETFROM:-0800
TZOFFSETTO:-0700
TZNAME:PDT
DTSTART:20260308T100000
END:DAYLIGHT
BEGIN:STANDARD
TZOFFSETFROM:-0700
TZOFFSETTO:-0800
TZNAME:PST
DTSTART:20261101T090000
END:STANDARD
BEGIN:DAYLIGHT
TZOFFSETFROM:-0800
TZOFFSETTO:-0700
TZNAME:PDT
DTSTART:20270314T100000
END:DAYLIGHT
BEGIN:STANDARD
TZOFFSETFROM:-0700
TZOFFSETTO:-0800
TZNAME:PST
DTSTART:20271107T090000
END:STANDARD
END:VTIMEZONE
BEGIN:VEVENT
DTSTART;TZID=America/Los_Angeles:20260623T083000
DTEND;TZID=America/Los_Angeles:20260623T220000
DTSTAMP:20260424T032210
CREATED:20260218T001848Z
LAST-MODIFIED:20260218T180827Z
UID:99946-1782203400-1782252000@calrecycle.ca.gov
SUMMARY:2026 Virtual California Tire Workshop Series
DESCRIPTION:This four-day event is designed for professionals and public agencies that are interested in tire recycling\, tire-derived products\, end uses\, and waste tire management. Attendees will gain insights into current market trends and emerging topics in California and beyond.
URL:https://calrecycle.ca.gov/event/2026-virtual-california-tire-workshop-series-5/
LOCATION:Zoom Meeting
CATEGORIES:Workshops
ORGANIZER;CN="Tire Management Program":MAILTO:TireEngineering@calrecycle.ca.gov
END:VEVENT
BEGIN:VEVENT
DTSTART;TZID=America/Los_Angeles:20260623T103000
DTEND;TZID=America/Los_Angeles:20260623T120000
DTSTAMP:20260424T032210
CREATED:20260218T001850Z
LAST-MODIFIED:20260218T180936Z
UID:99947-1782210600-1782216000@calrecycle.ca.gov
SUMMARY:2026 Virtual California Tire Workshop Series
DESCRIPTION:This four-day event is designed for professionals and public agencies that are interested in tire recycling\, tire-derived products\, end uses\, and waste tire management. Attendees will gain insights into current market trends and emerging topics in California and beyond.
URL:https://calrecycle.ca.gov/event/2026-virtual-california-tire-workshop-series-6/
LOCATION:Zoom Meeting
CATEGORIES:Workshops
ORGANIZER;CN="Tire Management Program":MAILTO:TireEngineering@calrecycle.ca.gov
END:VEVENT
END:VCALENDAR